BEGIN:VCALENDAR
VERSION:2.0
PRODID:-//ChamberMaster//Event Calendar 2.0//EN
METHOD:PUBLISH
X-PUBLISHED-TTL:P3D
REFRESH-INTERVAL:P3D
CALSCALE:GREGORIAN
BEGIN:VEVENT
DTSTART:20231114T013000Z
DTEND:20231114T043000Z
X-MICROSOFT-CDO-ALLDAYEVENT:FALSE
SUMMARY:Annual Awards Banquet
DESCRIPTION:Annual Awards Banquet \n\nMonday\, November 13th from 6:30-9:30pm\n\nRustic Table\, Star
X-ALT-DESC;FMTTYPE=text/html:<span style="font-size:14px\;"><span style="font-family:tahoma\;">Annual Awards Banquet&nbsp\;<br />\nMonday\, November 13th from 6:30-9:30pm<br />\nRustic Table\, Star</span></span>
LOCATION:Rustic Table Star
UID:e.3601.661
SEQUENCE:3
DTSTAMP:20260419T223303Z
URL:https://staridaho-gzcms.preview.gochambermaster.com/events/details/annual-awards-banquet-661
END:VEVENT

END:VCALENDAR
