BEGIN:VCALENDAR
VERSION:2.0
PRODID:-//ChamberMaster//Event Calendar 2.0//EN
METHOD:PUBLISH
X-PUBLISHED-TTL:P3D
REFRESH-INTERVAL:P3D
CALSCALE:GREGORIAN
BEGIN:VEVENT
DTSTART:20230420T233000Z
DTEND:20230421T010000Z
X-MICROSOFT-CDO-ALLDAYEVENT:FALSE
SUMMARY:Business After Hours with Infinite Maintenance and Cleaning
DESCRIPTION:Join Chamber of Commerce and Infinite Maintenance and Cleaning for our Business After Hours on April 20th at Rustic Table in Star.
X-ALT-DESC;FMTTYPE=text/html:Join Chamber of Commerce and Infinite Maintenance and Cleaning for our Business After Hours on April 20th at Rustic Table in Star.&nbsp\;\n<h5 class="card-title gz-card-title" itemprop="name" style="box-sizing: border-box\; font-family: Arial\, Helvetica\, sans-serif\; line-height: 1.4\; color: rgb(68\, 68\, 68)\; margin-top: 0px\; margin-bottom: 0.75rem\; font-size: 16px\; letter-spacing: 6px\;">&nbsp\;</h5>\n
LOCATION:Rustic Table 9846 W State St\, Star\, ID 83669
UID:e.3601.640
SEQUENCE:3
DTSTAMP:20260420T224245Z
URL:https://staridaho-gzcms.preview.gochambermaster.com/events/details/business-after-hours-with-infinite-maintenance-and-cleaning-640
END:VEVENT

END:VCALENDAR
