BEGIN:VCALENDAR
VERSION:2.0
PRODID:-//ChamberMaster//Event Calendar 2.0//EN
METHOD:PUBLISH
X-PUBLISHED-TTL:P3D
REFRESH-INTERVAL:P3D
CALSCALE:GREGORIAN
BEGIN:VEVENT
DTSTART:20220519T233000Z
DTEND:20220520T013000Z
X-MICROSOFT-CDO-ALLDAYEVENT:FALSE
SUMMARY:Business After Hours with Star Branch Library
DESCRIPTION:Star Chamber Business After Hours with Star Library this Thursday the 19th. Come network with us!
X-ALT-DESC;FMTTYPE=text/html:<span style="font-family: &quot\;Segoe UI Historic&quot\;\, &quot\;Segoe UI&quot\;\, Helvetica\, Arial\, sans-serif\; color: rgb(5\, 5\, 5)\; font-size: 15px\; white-space: pre-wrap\;"><a class="oajrlxb2 g5ia77u1 qu0x051f esr5mh6w e9989ue4 r7d6kgcz rq0escxv nhd2j8a9 nc684nl6 p7hjln8o kvgmc6g5 cxmmr5t8 oygrvhab hcukyx3x jb3vyjys rz4wbd8a qt6c0cv9 a8nywdso i1ao9s8h esuyzwwr f1sip0of lzcic4wl gpro0wi8 q66pz984 b1v8xokw" href="https://www.facebook.com/events/3330659930490498/?__cft__[0]=AZX5z_exmyKc-C81cAilv-c4RB-0tmObyvkfL39fhdEAGfhMWEFPOzZlYsLodMBvxw1Kjns6li1-6OOCXVuYPjUoG-_wE6EvQqV0xaioTDVUuttGjzLAQ_dHvF4L83XvuOR69Ew1zgWiSSvChmxh96AXXxlfmM5ZtsME6_XmgbcXTw&amp\;__tn__=-UK-R" role="link" style="color: var(--accent)\; cursor: pointer\; outline: none\; list-style: none\; border-width: 0px\; border-style: initial\; border-color: initial\; padding: 0px\; margin: 0px\; touch-action: manipulation\; background-color: transparent\; text-align: inherit\; display: inline\; -webkit-tap-highlight-color: transparent\; box-sizing: border-box\; font-family: inherit\;" tabindex="0"><span class="nc684nl6" style="display: inline\; font-family: inherit\;">Star Chamber Business After Hours with Star Library</span></a></span><span style="color: rgb(5\, 5\, 5)\; font-family: &quot\;Segoe UI Historic&quot\;\, &quot\;Segoe UI&quot\;\, Helvetica\, Arial\, sans-serif\; font-size: 15px\; white-space: pre-wrap\;"> this Thursday the 19th. Come network with us!</span>
LOCATION:5635\, 10706 W State St # D\, Star\, ID 83669
UID:e.3601.596
SEQUENCE:3
DTSTAMP:20260422T130849Z
URL:https://staridaho-gzcms.preview.gochambermaster.com/events/details/business-after-hours-with-star-branch-library-596
END:VEVENT

END:VCALENDAR
