BEGIN:VCALENDAR
VERSION:2.0
PRODID:-//ChamberMaster//Event Calendar 2.0//EN
METHOD:PUBLISH
X-PUBLISHED-TTL:P3D
REFRESH-INTERVAL:P3D
CALSCALE:GREGORIAN
BEGIN:VEVENT
DTSTART:20230518T233000Z
DTEND:20230519T010000Z
X-MICROSOFT-CDO-ALLDAYEVENT:FALSE
SUMMARY:Business After hours with White Barn Real Estate
DESCRIPTION:Join us for May's Business After Hours with White Barn Real Estate at El Mariachi Loco in Star.
X-ALT-DESC;FMTTYPE=text/html:Join us for May&#39\;s Business After Hours with White Barn Real Estate at El Mariachi Loco in Star.&nbsp\;
LOCATION:9966 W State St Star
UID:e.3601.643
SEQUENCE:3
DTSTAMP:20260420T114230Z
URL:https://staridaho-gzcms.preview.gochambermaster.com/events/details/business-after-hours-with-white-barn-real-estate-643
END:VEVENT

END:VCALENDAR
