BEGIN:VCALENDAR
VERSION:2.0
PRODID:-//ChamberMaster//Event Calendar 2.0//EN
METHOD:PUBLISH
X-PUBLISHED-TTL:P3D
REFRESH-INTERVAL:P3D
CALSCALE:GREGORIAN
BEGIN:VEVENT
DTSTART:20211021T210000Z
DTEND:20211021T230000Z
X-MICROSOFT-CDO-ALLDAYEVENT:FALSE
SUMMARY:Ribbon Cutting with The Skin Apothecary
DESCRIPTION:Welcome our new Star Chamber of Commerce\, Idaho member The Skin Apothecary! At The Skin Apothecary\, they offer a variety of beauty enhancement treatments\, customized to your needs and budget. Whether you're looking for firmer skin or fuller lips\, their team members are at your service providing the safest procedures and implementing the latest technologies in the market.\n\n\n\nJoin us for the Ribbon Cutting at Skin Apothecary!
X-ALT-DESC;FMTTYPE=text/html:<span style="color: rgb(5\, 5\, 5)\; font-family: &quot\;Segoe UI Historic&quot\;\, &quot\;Segoe UI&quot\;\, Helvetica\, Arial\, sans-serif\; font-size: 15px\; white-space: pre-wrap\;">Welcome our new </span><span style="font-family: &quot\;Segoe UI Historic&quot\;\, &quot\;Segoe UI&quot\;\, Helvetica\, Arial\, sans-serif\; color: rgb(5\, 5\, 5)\; font-size: 15px\; white-space: pre-wrap\;"><a class="oajrlxb2 g5ia77u1 qu0x051f esr5mh6w e9989ue4 r7d6kgcz rq0escxv nhd2j8a9 nc684nl6 p7hjln8o kvgmc6g5 cxmmr5t8 oygrvhab hcukyx3x jb3vyjys rz4wbd8a qt6c0cv9 a8nywdso i1ao9s8h esuyzwwr f1sip0of lzcic4wl q66pz984 gpro0wi8 b1v8xokw" href="https://www.facebook.com/StarChamberofCommerce/?__cft__[0]=AZVGo9sNevhda3Ljvo4rPSZyEDbQjUup5ByBvUXkRKSSw6vW3-sannvyGH4KeBuPBHpEbBxRY0A-frTLa6_L-wDl0bX6flaanSls8hhQtAW4qoCokqlVT-QX7usIZEVqy7qIRSnAGbLBLORt1mhQuaalLr68JKPC0_T-cFaO51rg8FOQ2YcfQtvXrtZ5jl4ruI8&amp\;__tn__=kK-R" role="link" style="color: var(--accent)\; cursor: pointer\; text-decoration-line: none\; outline: none\; list-style: none\; border-width: 0px\; border-style: initial\; border-color: initial\; padding: 0px\; margin: 0px\; touch-action: manipulation\; background-color: transparent\; text-align: inherit\; display: inline\; -webkit-tap-highlight-color: transparent\; box-sizing: border-box\; font-family: inherit\;" tabindex="0"><span class="nc684nl6" style="display: inline\; font-family: inherit\;">Star Chamber of Commerce\, Idaho</span></a></span><span style="color: rgb(5\, 5\, 5)\; font-family: &quot\;Segoe UI Historic&quot\;\, &quot\;Segoe UI&quot\;\, Helvetica\, Arial\, sans-serif\; font-size: 15px\; white-space: pre-wrap\;"> member </span><span style="font-family: &quot\;Segoe UI Historic&quot\;\, &quot\;Segoe UI&quot\;\, Helvetica\, Arial\, sans-serif\; color: rgb(5\, 5\, 5)\; font-size: 15px\; white-space: pre-wrap\;"><a class="oajrlxb2 g5ia77u1 qu0x051f esr5mh6w e9989ue4 r7d6kgcz rq0escxv nhd2j8a9 nc684nl6 p7hjln8o kvgmc6g5 cxmmr5t8 oygrvhab hcukyx3x jb3vyjys rz4wbd8a qt6c0cv9 a8nywdso i1ao9s8h esuyzwwr f1sip0of lzcic4wl q66pz984 gpro0wi8 b1v8xokw" href="https://www.facebook.com/StarSkinApothecary/?__cft__[0]=AZVGo9sNevhda3Ljvo4rPSZyEDbQjUup5ByBvUXkRKSSw6vW3-sannvyGH4KeBuPBHpEbBxRY0A-frTLa6_L-wDl0bX6flaanSls8hhQtAW4qoCokqlVT-QX7usIZEVqy7qIRSnAGbLBLORt1mhQuaalLr68JKPC0_T-cFaO51rg8FOQ2YcfQtvXrtZ5jl4ruI8&amp\;__tn__=kK-R" role="link" style="color: var(--accent)\; cursor: pointer\; text-decoration-line: none\; outline: none\; list-style: none\; border-width: 0px\; border-style: initial\; border-color: initial\; padding: 0px\; margin: 0px\; touch-action: manipulation\; background-color: transparent\; text-align: inherit\; display: inline\; -webkit-tap-highlight-color: transparent\; box-sizing: border-box\; font-family: inherit\;" tabindex="0"><span class="nc684nl6" style="display: inline\; font-family: inherit\;">The Skin Apothecary</span></a></span><span style="color: rgb(5\, 5\, 5)\; font-family: &quot\;Segoe UI Historic&quot\;\, &quot\;Segoe UI&quot\;\, Helvetica\, Arial\, sans-serif\; font-size: 15px\; white-space: pre-wrap\;">! At </span><span style="font-family: &quot\;Segoe UI Historic&quot\;\, &quot\;Segoe UI&quot\;\, Helvetica\, Arial\, sans-serif\; color: rgb(5\, 5\, 5)\; font-size: 15px\; white-space: pre-wrap\;"><a class="oajrlxb2 g5ia77u1 qu0x051f esr5mh6w e9989ue4 r7d6kgcz rq0escxv nhd2j8a9 nc684nl6 p7hjln8o kvgmc6g5 cxmmr5t8 oygrvhab hcukyx3x jb3vyjys rz4wbd8a qt6c0cv9 a8nywdso i1ao9s8h esuyzwwr f1sip0of lzcic4wl q66pz984 gpro0wi8 b1v8xokw" href="https://www.facebook.com/StarSkinApothecary/?__cft__[0]=AZVGo9sNevhda3Ljvo4rPSZyEDbQjUup5ByBvUXkRKSSw6vW3-sannvyGH4KeBuPBHpEbBxRY0A-frTLa6_L-wDl0bX6flaanSls8hhQtAW4qoCokqlVT-QX7usIZEVqy7qIRSnAGbLBLORt1mhQuaalLr68JKPC0_T-cFaO51rg8FOQ2YcfQtvXrtZ5jl4ruI8&amp\;__tn__=kK-R" role="link" style="color: var(--accent)\; cursor: pointer\; text-decoration-line: none\; outline: none\; list-style: none\; border-width: 0px\; border-style: initial\; border-color: initial\; padding: 0px\; margin: 0px\; touch-action: manipulation\; background-color: transparent\; text-align: inherit\; display: inline\; -webkit-tap-highlight-color: transparent\; box-sizing: border-box\; font-family: inherit\;" tabindex="0"><span class="nc684nl6" style="display: inline\; font-family: inherit\;">The Skin Apothecary</span></a></span><span style="color: rgb(5\, 5\, 5)\; font-family: &quot\;Segoe UI Historic&quot\;\, &quot\;Segoe UI&quot\;\, Helvetica\, Arial\, sans-serif\; font-size: 15px\; white-space: pre-wrap\;">\, they offer a variety of beauty enhancement treatments\, customized to your needs and budget. Whether you&rsquo\;re looking for firmer skin or fuller lips\, their team members are at your service providing the safest procedures and implementing the latest technologies in the market.<br />\n<br />\nJoin us for the Ribbon Cutting at </span><span style="font-family: &quot\;Segoe UI Historic&quot\;\, &quot\;Segoe UI&quot\;\, Helvetica\, Arial\, sans-serif\; color: rgb(5\, 5\, 5)\; font-size: 15px\; white-space: pre-wrap\;"><a class="oajrlxb2 g5ia77u1 qu0x051f esr5mh6w e9989ue4 r7d6kgcz rq0escxv nhd2j8a9 nc684nl6 p7hjln8o kvgmc6g5 cxmmr5t8 oygrvhab hcukyx3x jb3vyjys rz4wbd8a qt6c0cv9 a8nywdso i1ao9s8h esuyzwwr f1sip0of lzcic4wl q66pz984 gpro0wi8 b1v8xokw" href="https://www.facebook.com/StarSkinApothecary/?__cft__[0]=AZVGo9sNevhda3Ljvo4rPSZyEDbQjUup5ByBvUXkRKSSw6vW3-sannvyGH4KeBuPBHpEbBxRY0A-frTLa6_L-wDl0bX6flaanSls8hhQtAW4qoCokqlVT-QX7usIZEVqy7qIRSnAGbLBLORt1mhQuaalLr68JKPC0_T-cFaO51rg8FOQ2YcfQtvXrtZ5jl4ruI8&amp\;__tn__=kK-R" role="link" style="color: var(--accent)\; cursor: pointer\; text-decoration-line: none\; outline: none\; list-style: none\; border-width: 0px\; border-style: initial\; border-color: initial\; padding: 0px\; margin: 0px\; touch-action: manipulation\; background-color: transparent\; text-align: inherit\; display: inline\; -webkit-tap-highlight-color: transparent\; box-sizing: border-box\; font-family: inherit\;" tabindex="0"><span class="nc684nl6" style="display: inline\; font-family: inherit\;">Skin Apothecary</span></a></span><span style="color: rgb(5\, 5\, 5)\; font-family: &quot\;Segoe UI Historic&quot\;\, &quot\;Segoe UI&quot\;\, Helvetica\, Arial\, sans-serif\; font-size: 15px\; white-space: pre-wrap\;">!</span>
LOCATION:11104 W. State. St. Star\, ID 83669
UID:e.3601.574
SEQUENCE:3
DTSTAMP:20260423T064739Z
URL:https://staridaho-gzcms.preview.gochambermaster.com/events/details/ribbon-cutting-with-the-skin-apothecary-574
END:VEVENT

END:VCALENDAR
