BEGIN:VCALENDAR
VERSION:2.0
PRODID:-//ChamberMaster//Event Calendar 2.0//EN
METHOD:PUBLISH
X-PUBLISHED-TTL:P3D
REFRESH-INTERVAL:P3D
CALSCALE:GREGORIAN
BEGIN:VEVENT
DTSTART:20220430T170000Z
DTEND:20220430T210000Z
X-MICROSOFT-CDO-ALLDAYEVENT:FALSE
SUMMARY:Ribbon Cutting with Waggin Tails Dog Park
DESCRIPTION:Join us at Waggin Tails Dog Park for their Grand Opening and Ribbon Cutting!.
X-ALT-DESC;FMTTYPE=text/html:Join us at Waggin Tails Dog Park for their Grand Opening and Ribbon Cutting!.&nbsp\;
LOCATION:
UID:e.3601.593
SEQUENCE:3
DTSTAMP:20260422T235257Z
URL:https://staridaho-gzcms.preview.gochambermaster.com/events/details/ribbon-cutting-with-waggin-tails-dog-park-593
END:VEVENT

END:VCALENDAR
