BEGIN:VCALENDAR
VERSION:2.0
PRODID:-//ChamberMaster//Event Calendar 2.0//EN
METHOD:PUBLISH
X-PUBLISHED-TTL:P3D
REFRESH-INTERVAL:P3D
CALSCALE:GREGORIAN
BEGIN:VEVENT
DTSTART:20221023T000000Z
DTEND:20221023T020000Z
X-MICROSOFT-CDO-ALLDAYEVENT:FALSE
SUMMARY:Ties & Tiaras - Daddy Daughter Dance
DESCRIPTION:Ties and Tiara's Daddy-Daughter Dance will be October 22\, 2022 at the Star Community Barn on Star Road. This event will be from 6-8pm.\n\n$40 per couple with a $10 add on charge for each additional daughter.\n\nDad's and Daughters will enjoy our fun photo booth\, desserts\, activities\, and of course dancing the night away. Corsages will be available to purchase. Open to all ages!
X-ALT-DESC;FMTTYPE=text/html:Ties and Tiara&#39\;s Daddy-Daughter Dance will be October 22\, 2022 at the Star Community Barn on Star Road. This event will be from 6-8pm.<br />\n$40 per couple with a $10 add on charge for each additional daughter.<br />\nDad&#39\;s and Daughters will enjoy our fun photo booth\, desserts\, activities\, and of course dancing the night away. Corsages will be available to purchase. Open to all ages!<br />\n&nbsp\;
LOCATION:
UID:e.3601.614
SEQUENCE:3
DTSTAMP:20260421T203337Z
URL:https://staridaho-gzcms.preview.gochambermaster.com/events/details/ties-tiaras-daddy-daughter-dance-614
END:VEVENT

END:VCALENDAR
